BEGIN:VCALENDAR
VERSION:2.0
PRODID:-//Southfield City Centre - ECPv6.15.17.1//NONSGML v1.0//EN
CALSCALE:GREGORIAN
METHOD:PUBLISH
X-ORIGINAL-URL:https://southfieldcitycentre.com
X-WR-CALDESC:Events for Southfield City Centre
REFRESH-INTERVAL;VALUE=DURATION:PT1H
X-Robots-Tag:noindex
X-PUBLISHED-TTL:PT1H
BEGIN:VTIMEZONE
TZID:America/Detroit
BEGIN:DAYLIGHT
TZOFFSETFROM:-0500
TZOFFSETTO:-0400
TZNAME:EDT
DTSTART:20230312T070000
END:DAYLIGHT
BEGIN:STANDARD
TZOFFSETFROM:-0400
TZOFFSETTO:-0500
TZNAME:EST
DTSTART:20231105T060000
END:STANDARD
BEGIN:DAYLIGHT
TZOFFSETFROM:-0500
TZOFFSETTO:-0400
TZNAME:EDT
DTSTART:20240310T070000
END:DAYLIGHT
BEGIN:STANDARD
TZOFFSETFROM:-0400
TZOFFSETTO:-0500
TZNAME:EST
DTSTART:20241103T060000
END:STANDARD
BEGIN:DAYLIGHT
TZOFFSETFROM:-0500
TZOFFSETTO:-0400
TZNAME:EDT
DTSTART:20250309T070000
END:DAYLIGHT
BEGIN:STANDARD
TZOFFSETFROM:-0400
TZOFFSETTO:-0500
TZNAME:EST
DTSTART:20251102T060000
END:STANDARD
END:VTIMEZONE
BEGIN:VEVENT
DTSTART;TZID=America/Detroit:20240929T090000
DTEND;TZID=America/Detroit:20240929T110000
DTSTAMP:20260422T075646
CREATED:20240906T164907Z
LAST-MODIFIED:20240906T164907Z
UID:5507-1727600400-1727607600@southfieldcitycentre.com
SUMMARY:Anti-Defamation League Walk Against Hate
DESCRIPTION:Sunday\, September 29  l  9-11AM\nTo register visit: www.walkagainsthate.org/michigan/account/register
URL:https://southfieldcitycentre.com/event/anti-defamation-league-walk-against-hate/
LOCATION:Donald F. Fracassi Municipal Campus\, 26000 Evergreen Rd\, Southfield\, MI\, 48076\, United States
CATEGORIES:Events
ATTACH;FMTTYPE=image/jpeg:https://southfieldcitycentre.com/wp-content/uploads/2024/09/featured-event-generic.jpg
END:VEVENT
END:VCALENDAR