BEGIN:VCALENDAR
VERSION:2.0
PRODID:-//Southfield City Centre - ECPv6.15.17.1//NONSGML v1.0//EN
CALSCALE:GREGORIAN
METHOD:PUBLISH
X-WR-CALNAME:Southfield City Centre
X-ORIGINAL-URL:https://southfieldcitycentre.com
X-WR-CALDESC:Events for Southfield City Centre
REFRESH-INTERVAL;VALUE=DURATION:PT1H
X-Robots-Tag:noindex
X-PUBLISHED-TTL:PT1H
BEGIN:VTIMEZONE
TZID:America/Detroit
BEGIN:DAYLIGHT
TZOFFSETFROM:-0500
TZOFFSETTO:-0400
TZNAME:EDT
DTSTART:20220313T070000
END:DAYLIGHT
BEGIN:STANDARD
TZOFFSETFROM:-0400
TZOFFSETTO:-0500
TZNAME:EST
DTSTART:20221106T060000
END:STANDARD
BEGIN:DAYLIGHT
TZOFFSETFROM:-0500
TZOFFSETTO:-0400
TZNAME:EDT
DTSTART:20230312T070000
END:DAYLIGHT
BEGIN:STANDARD
TZOFFSETFROM:-0400
TZOFFSETTO:-0500
TZNAME:EST
DTSTART:20231105T060000
END:STANDARD
BEGIN:DAYLIGHT
TZOFFSETFROM:-0500
TZOFFSETTO:-0400
TZNAME:EDT
DTSTART:20240310T070000
END:DAYLIGHT
BEGIN:STANDARD
TZOFFSETFROM:-0400
TZOFFSETTO:-0500
TZNAME:EST
DTSTART:20241103T060000
END:STANDARD
END:VTIMEZONE
BEGIN:VEVENT
DTSTART;TZID=America/Detroit:20230316T150000
DTEND;TZID=America/Detroit:20230316T170000
DTSTAMP:20260420T221331
CREATED:20230303T191256Z
LAST-MODIFIED:20230303T191256Z
UID:5202-1678978800-1678986000@southfieldcitycentre.com
SUMMARY:Happy Hour & Team Trivia
DESCRIPTION:When: Thursday\, March 16\nLocation: Towne Square Food and Spirits\nTime: 3-5 PM
URL:https://southfieldcitycentre.com/event/happy-hour-team-trivia/
LOCATION:Towne Square Food & Spirits\, 1 Towne Square\, Southfield\, MI\, 48076\, United States
CATEGORIES:Events
ATTACH;FMTTYPE=image/jpeg:https://southfieldcitycentre.com/wp-content/uploads/2023/03/SCC_2023-Trivia-Night_Website-Graphic.jpg
END:VEVENT
END:VCALENDAR