BEGIN:VCALENDAR
VERSION:2.0
PRODID:-//Southfield City Centre - ECPv6.15.17.1//NONSGML v1.0//EN
CALSCALE:GREGORIAN
METHOD:PUBLISH
X-WR-CALNAME:Southfield City Centre
X-ORIGINAL-URL:https://southfieldcitycentre.com
X-WR-CALDESC:Events for Southfield City Centre
REFRESH-INTERVAL;VALUE=DURATION:PT1H
X-Robots-Tag:noindex
X-PUBLISHED-TTL:PT1H
BEGIN:VTIMEZONE
TZID:America/Detroit
BEGIN:DAYLIGHT
TZOFFSETFROM:-0500
TZOFFSETTO:-0400
TZNAME:EDT
DTSTART:20230312T070000
END:DAYLIGHT
BEGIN:STANDARD
TZOFFSETFROM:-0400
TZOFFSETTO:-0500
TZNAME:EST
DTSTART:20231105T060000
END:STANDARD
BEGIN:DAYLIGHT
TZOFFSETFROM:-0500
TZOFFSETTO:-0400
TZNAME:EDT
DTSTART:20240310T070000
END:DAYLIGHT
BEGIN:STANDARD
TZOFFSETFROM:-0400
TZOFFSETTO:-0500
TZNAME:EST
DTSTART:20241103T060000
END:STANDARD
BEGIN:DAYLIGHT
TZOFFSETFROM:-0500
TZOFFSETTO:-0400
TZNAME:EDT
DTSTART:20250309T070000
END:DAYLIGHT
BEGIN:STANDARD
TZOFFSETFROM:-0400
TZOFFSETTO:-0500
TZNAME:EST
DTSTART:20251102T060000
END:STANDARD
END:VTIMEZONE
BEGIN:VEVENT
DTSTART;TZID=America/Detroit:20240613T110000
DTEND;TZID=America/Detroit:20240613T140000
DTSTAMP:20260420T221218
CREATED:20240529T210741Z
LAST-MODIFIED:20240529T210741Z
UID:5417-1718276400-1718287200@southfieldcitycentre.com
SUMMARY:Eat to the Beat - Circle of Sound Band
DESCRIPTION:Eat to the Beat – Circle of Sound Band\nJune 13\, 2024 @ 11:00 am – 2:00 pm\nDonald F. Fracassi Municipal Campus\, 26000 Evergreen Rd\nSouthfield\, MI 48076 United States \nThis event will be held in person. Eat to the Beat is the annual summertime lunchtime food truck and entertainment event in Southfield City Centre. The event happens every second Thursday\, June through September. Events will be held in the Southfield Municipal Complex.
URL:https://southfieldcitycentre.com/event/eat-to-the-beat-circle-of-sound-band/
LOCATION:Donald F. Fracassi Municipal Campus\, 26000 Evergreen Rd\, Southfield\, MI\, 48076\, United States
CATEGORIES:Eat to the Beat
ATTACH;FMTTYPE=image/png:https://southfieldcitycentre.com/wp-content/uploads/2024/05/SCC-Eat-to-the-Beat-2024-Website-Graphics-ALL_Red.png
END:VEVENT
END:VCALENDAR