BEGIN:VCALENDAR
VERSION:2.0
PRODID:-//Southfield City Centre - ECPv6.15.17.1//NONSGML v1.0//EN
CALSCALE:GREGORIAN
METHOD:PUBLISH
X-WR-CALNAME:Southfield City Centre
X-ORIGINAL-URL:https://southfieldcitycentre.com
X-WR-CALDESC:Events for Southfield City Centre
REFRESH-INTERVAL;VALUE=DURATION:PT1H
X-Robots-Tag:noindex
X-PUBLISHED-TTL:PT1H
BEGIN:VTIMEZONE
TZID:America/Detroit
BEGIN:DAYLIGHT
TZOFFSETFROM:-0500
TZOFFSETTO:-0400
TZNAME:EDT
DTSTART:20240310T070000
END:DAYLIGHT
BEGIN:STANDARD
TZOFFSETFROM:-0400
TZOFFSETTO:-0500
TZNAME:EST
DTSTART:20241103T060000
END:STANDARD
BEGIN:DAYLIGHT
TZOFFSETFROM:-0500
TZOFFSETTO:-0400
TZNAME:EDT
DTSTART:20250309T070000
END:DAYLIGHT
BEGIN:STANDARD
TZOFFSETFROM:-0400
TZOFFSETTO:-0500
TZNAME:EST
DTSTART:20251102T060000
END:STANDARD
BEGIN:DAYLIGHT
TZOFFSETFROM:-0500
TZOFFSETTO:-0400
TZNAME:EDT
DTSTART:20260308T070000
END:DAYLIGHT
BEGIN:STANDARD
TZOFFSETFROM:-0400
TZOFFSETTO:-0500
TZNAME:EST
DTSTART:20261101T060000
END:STANDARD
END:VTIMEZONE
BEGIN:VEVENT
DTSTART;TZID=America/Detroit:20250327T143000
DTEND;TZID=America/Detroit:20250327T173000
DTSTAMP:20260419T134037
CREATED:20250210T182811Z
LAST-MODIFIED:20250414T190913Z
UID:5557-1743085800-1743096600@southfieldcitycentre.com
SUMMARY:Happy Hour & Team Trivia
DESCRIPTION:When: March\, 27\nTime: 2:30-5:30 PM\nWhere: Towne Square Food & Spirits (1 Towne Square\, Southfield\, MI\, 48076 \nThe annual Southfield City Centre Happy Hour and Team Trivia Networking event held on March 27th drew a large group of participants from many Southfield-based organizations. The group gathered at Towne Square Food & Spirits for the chance to show their trivia knowledge and connect with other professionals. “This event has proved to be favorite among our business community\,” says Rochelle Freeman\, Director of Business & Economic Development for the City of Southfield. “Employees bond and build relationships outside of their work environment and make professionalsconnections with employees from other Southfield companies.” \n 
URL:https://southfieldcitycentre.com/event/happy-hour-team-trivia-3/
LOCATION:Towne Square Food & Spirits\, 1 Towne Square\, Southfield\, MI\, 48076\, United States
CATEGORIES:Events
ATTACH;FMTTYPE=image/jpeg:https://southfieldcitycentre.com/wp-content/uploads/2025/02/Southfield_Trivia_Night_2025_Email-1.jpg
END:VEVENT
END:VCALENDAR